BEGIN:VCALENDAR
VERSION:2.0
PRODID:-//bgcnwnj.org//NONSGML kigkonsult.se iCalcreator 2.30.10//
CALSCALE:GREGORIAN
METHOD:PUBLISH
UID:1bb48e21-bd57-4f88-a64d-7ca2925ab726
X-WR-CALDESC:
X-WR-RELCALID:1d40f6e75c51e66a6853676549c0ff30
X-WR-TIMEZONE:America/New_York
BEGIN:VTIMEZONE
TZID:America/New_York
BEGIN:STANDARD
TZNAME:EST
DTSTART:20231105T020000
TZOFFSETFROM:-0400
TZOFFSETTO:-0500
RDATE:20241103T020000
END:STANDARD
BEGIN:DAYLIGHT
TZNAME:EDT
DTSTART:20230312T020000
TZOFFSETFROM:-0500
TZOFFSETTO:-0400
RDATE:20240310T020000
RDATE:20250309T020000
END:DAYLIGHT
END:VTIMEZONE
BEGIN:VEVENT
UID:583b19d6-531c-42e8-aa91-f51843c3f601
DTSTAMP:20260426T043635Z
DESCRIPTION:
DTSTART;TZID=America/New_York:20231213T080000
DTEND;TZID=America/New_York:20231213T210000
LOCATION:1055 Hamburg Turnpike\, Wayne\, NJ 07470 US
SUMMARY:Jersey Mike's 'Dine & Donate'
END:VEVENT
END:VCALENDAR
