BEGIN:VCALENDAR
VERSION:2.0
PRODID:-//bgcnwnj.org//NONSGML kigkonsult.se iCalcreator 2.30.10//
CALSCALE:GREGORIAN
METHOD:PUBLISH
UID:4a771df4-f94b-4366-9101-67357161978a
X-WR-CALDESC:
X-WR-RELCALID:d6d97872004a8d9a86882f0387858400
X-WR-TIMEZONE:America/New_York
BEGIN:VTIMEZONE
TZID:America/New_York
BEGIN:STANDARD
TZNAME:EST
DTSTART:20231105T020000
TZOFFSETFROM:-0400
TZOFFSETTO:-0500
RDATE:20241103T020000
END:STANDARD
BEGIN:DAYLIGHT
TZNAME:EDT
DTSTART:20230312T020000
TZOFFSETFROM:-0500
TZOFFSETTO:-0400
RDATE:20240310T020000
RDATE:20250309T020000
END:DAYLIGHT
END:VTIMEZONE
BEGIN:VEVENT
UID:8680d82f-5f85-4c44-a2ad-e55ce41fe695
DTSTAMP:20260426T032414Z
DESCRIPTION:
DTSTART;TZID=America/New_York:20240124T180000
DTEND;TZID=America/New_York:20240124T190000
LOCATION:153 Gardside Ave\, Wayne\, NJ 07470 US
SUMMARY:Move\,Chat\, and Learn with Aimee!
END:VEVENT
END:VCALENDAR
