BEGIN:VCALENDAR
VERSION:2.0
PRODID:-//bgcnwnj.org//NONSGML kigkonsult.se iCalcreator 2.30.10//
CALSCALE:GREGORIAN
METHOD:PUBLISH
UID:a1ba2b00-a25b-4366-907c-c97388c67876
X-WR-CALDESC:
X-WR-RELCALID:96ff628c6a9770f0f2d9e969bf0d6c5e
X-WR-TIMEZONE:America/New_York
BEGIN:VTIMEZONE
TZID:America/New_York
BEGIN:STANDARD
TZNAME:EST
DTSTART:20231105T020000
TZOFFSETFROM:-0400
TZOFFSETTO:-0500
RDATE:20241103T020000
RDATE:20251102T020000
END:STANDARD
BEGIN:DAYLIGHT
TZNAME:EDT
DTSTART:20240310T020000
TZOFFSETFROM:-0500
TZOFFSETTO:-0400
RDATE:20250309T020000
END:DAYLIGHT
END:VTIMEZONE
BEGIN:VEVENT
UID:cb19c3a6-7a15-4de6-8f9d-9a49e154f6fd
DTSTAMP:20260425T212602Z
DESCRIPTION:
DTSTART;TZID=America/New_York:20240508T080000
DTEND;TZID=America/New_York:20240508T090000
LOCATION:153 Garside Avenue\, Wayne\, NJ 07470 US
SUMMARY:Great Futures Breakfast
END:VEVENT
END:VCALENDAR
