BEGIN:VCALENDAR
VERSION:2.0
PRODID:-//bgcnwnj.org//NONSGML kigkonsult.se iCalcreator 2.30.10//
CALSCALE:GREGORIAN
METHOD:PUBLISH
UID:0c568daa-ec2f-42d8-91ce-7c70f752faf0
X-WR-CALDESC:
X-WR-RELCALID:728d81eba82debefa9e1a646b6b68953
X-WR-TIMEZONE:America/New_York
BEGIN:VTIMEZONE
TZID:America/New_York
BEGIN:STANDARD
TZNAME:EST
DTSTART:20231105T020000
TZOFFSETFROM:-0400
TZOFFSETTO:-0500
RDATE:20241103T020000
RDATE:20251102T020000
END:STANDARD
BEGIN:DAYLIGHT
TZNAME:EDT
DTSTART:20240310T020000
TZOFFSETFROM:-0500
TZOFFSETTO:-0400
RDATE:20250309T020000
END:DAYLIGHT
END:VTIMEZONE
BEGIN:VEVENT
UID:f3a09463-abee-4bd0-a529-521d5ef82390
DTSTAMP:20260425T211821Z
DESCRIPTION:
DTSTART;TZID=America/New_York:20240522T170000
DTEND;TZID=America/New_York:20240522T190000
LOCATION:1400 Willowbrook Mall Road\, Wayne\, NJ 07470 US
SUMMARY:Happy Hour & Networking at FOGO de CHAO
END:VEVENT
END:VCALENDAR
