BEGIN:VCALENDAR
VERSION:2.0
PRODID:-//bgcnwnj.org//NONSGML kigkonsult.se iCalcreator 2.30.10//
CALSCALE:GREGORIAN
METHOD:PUBLISH
UID:c2105b8f-f475-4229-8b09-8f8333be0cdc
X-WR-CALDESC:
X-WR-RELCALID:b851d984bde35efdb908af7ceef50bb4
X-WR-TIMEZONE:America/New_York
BEGIN:VTIMEZONE
TZID:America/New_York
BEGIN:STANDARD
TZNAME:EST
DTSTART:20231105T020000
TZOFFSETFROM:-0400
TZOFFSETTO:-0500
RDATE:20241103T020000
RDATE:20251102T020000
END:STANDARD
BEGIN:DAYLIGHT
TZNAME:EDT
DTSTART:20240310T020000
TZOFFSETFROM:-0500
TZOFFSETTO:-0400
RDATE:20250309T020000
END:DAYLIGHT
END:VTIMEZONE
BEGIN:VEVENT
UID:1ca164e9-1c9f-432b-a198-923ab5762552
DTSTAMP:20260425T200050Z
DESCRIPTION:
DTSTART;TZID=America/New_York:20240603T060000
DTEND;TZID=America/New_York:20240603T060001
LOCATION:Bowling Green Golf Club\, 53 Schoolhouse Rd\, Oak Ridge\, NJ 07438
  US
SUMMARY:Golf Outing
END:VEVENT
END:VCALENDAR
