BEGIN:VCALENDAR
VERSION:2.0
PRODID:-//bgcnwnj.org//NONSGML kigkonsult.se iCalcreator 2.30.10//
CALSCALE:GREGORIAN
METHOD:PUBLISH
UID:db652247-3433-4f2a-af1b-a1fcbf734e72
X-WR-CALDESC:
X-WR-RELCALID:c319fadffe13d5efbae7ba4028408b28
X-WR-TIMEZONE:America/New_York
BEGIN:VTIMEZONE
TZID:America/New_York
BEGIN:STANDARD
TZNAME:EST
DTSTART:20231105T020000
TZOFFSETFROM:-0400
TZOFFSETTO:-0500
RDATE:20241103T020000
RDATE:20251102T020000
END:STANDARD
BEGIN:DAYLIGHT
TZNAME:EDT
DTSTART:20240310T020000
TZOFFSETFROM:-0500
TZOFFSETTO:-0400
RDATE:20250309T020000
RDATE:20260308T020000
END:DAYLIGHT
END:VTIMEZONE
BEGIN:VEVENT
UID:e7fe9fcf-ee80-4e21-b420-23d27893505d
DTSTAMP:20260425T143702Z
DESCRIPTION:
DTSTART;TZID=America/New_York:20241004T190000
DTEND;TZID=America/New_York:20241005T000000
LOCATION:728 Rifle Camp Rd\, Woodland Park\, NJ 07866 US
SUMMARY:Gateway to Great Futures Gala
END:VEVENT
END:VCALENDAR
