BEGIN:VCALENDAR
VERSION:2.0
PRODID:-//bgcnwnj.org//NONSGML kigkonsult.se iCalcreator 2.30.10//
CALSCALE:GREGORIAN
METHOD:PUBLISH
UID:aee8beb1-9014-4252-a53a-fe01e07ae9de
X-WR-CALDESC:
X-WR-RELCALID:c95b084a61aa77b89238790efda074b0
X-WR-TIMEZONE:America/New_York
BEGIN:VTIMEZONE
TZID:America/New_York
BEGIN:STANDARD
TZNAME:EST
DTSTART:20241103T020000
TZOFFSETFROM:-0400
TZOFFSETTO:-0500
RDATE:20251102T020000
END:STANDARD
BEGIN:DAYLIGHT
TZNAME:EDT
DTSTART:20240310T020000
TZOFFSETFROM:-0500
TZOFFSETTO:-0400
RDATE:20250309T020000
RDATE:20260308T020000
END:DAYLIGHT
END:VTIMEZONE
BEGIN:VEVENT
UID:48874843-59c9-4aff-a22e-f24bf19bd839
DTSTAMP:20260425T114954Z
DESCRIPTION:
DTSTART;TZID=America/New_York:20241207T080000
DTEND;TZID=America/New_York:20241207T110000
LOCATION:153 Garside Avenue\, Wayne\, NJ 07470 US
SUMMARY:Breakfast with Santa
END:VEVENT
END:VCALENDAR
