BEGIN:VCALENDAR
VERSION:2.0
PRODID:-//bgcnwnj.org//NONSGML kigkonsult.se iCalcreator 2.30.10//
CALSCALE:GREGORIAN
METHOD:PUBLISH
UID:41fd554b-f78d-4060-8975-dc614671f6d8
X-WR-CALDESC:Peapack Private Bank @ https://peapackprivate.com\, will be ru
 nning a fun\, kid-friendly financial literary workshop.  Carolina Rozewski
 \, Assistant Vice President\, Community Development Officer and Amaro Peri
 era\, Vice President Sales Manager will be teaching our 2nd & 3rd graders 
 fun ways to learn about the value of a dollar.
X-WR-RELCALID:4081c502a2c956598b050bd6e705b841
X-WR-TIMEZONE:America/New_York
BEGIN:VTIMEZONE
TZID:America/New_York
BEGIN:STANDARD
TZNAME:EST
DTSTART:20241103T020000
TZOFFSETFROM:-0400
TZOFFSETTO:-0500
RDATE:20251102T020000
END:STANDARD
BEGIN:DAYLIGHT
TZNAME:EDT
DTSTART:20240310T020000
TZOFFSETFROM:-0500
TZOFFSETTO:-0400
RDATE:20250309T020000
RDATE:20260308T020000
END:DAYLIGHT
END:VTIMEZONE
BEGIN:VEVENT
UID:4559788a-db3d-4ead-83ab-dd94671cbb44
DTSTAMP:20260425T104335Z
DESCRIPTION:Peapack Private Bank @ https://peapackprivate.com\, will be run
 ning a fun\, kid-friendly financial literary workshop.  Carolina Rozewski\
 , Assistant Vice President\, Community Development Officer and Amaro Perie
 ra\, Vice President Sales Manager will be teaching our 2nd & 3rd graders f
 un ways to learn about the value of a dollar.
DTSTART;TZID=America/New_York:20250129T163000
DTEND;TZID=America/New_York:20250129T173000
LOCATION:153 Garside Avenue\, Wayne\, NJ 07470 US
SUMMARY:Financial Literacy Workshop-Part 1
END:VEVENT
END:VCALENDAR
