BEGIN:VCALENDAR
VERSION:2.0
PRODID:-//bgcnwnj.org//NONSGML kigkonsult.se iCalcreator 2.30.10//
CALSCALE:GREGORIAN
METHOD:PUBLISH
UID:fe48f111-27b3-4eaa-befb-3f341f981dc0
X-WR-CALDESC:**New this year - the Golf Cannon for a chance(s) to 'launch' 
 a straight shot.\nEnjoy breakfast\, lunch and drinks!  Chance at our 50/50
  and putting challenge.
X-WR-RELCALID:acc97df5ba1b2e962d23d0f6a886f926
X-WR-TIMEZONE:America/New_York
BEGIN:VTIMEZONE
TZID:America/New_York
BEGIN:STANDARD
TZNAME:EST
DTSTART:20241103T020000
TZOFFSETFROM:-0400
TZOFFSETTO:-0500
RDATE:20251102T020000
RDATE:20261101T020000
END:STANDARD
BEGIN:DAYLIGHT
TZNAME:EDT
DTSTART:20250309T020000
TZOFFSETFROM:-0500
TZOFFSETTO:-0400
RDATE:20260308T020000
END:DAYLIGHT
END:VTIMEZONE
BEGIN:VEVENT
UID:0b233023-ec0b-42f1-b445-27e274682a79
DTSTAMP:20260425T033041Z
DESCRIPTION:**New this year - the Golf Cannon for a chance(s) to 'launch' a
  straight shot.\nEnjoy breakfast\, lunch and drinks!  Chance at our 50/50 
 and putting challenge.
DTSTART;TZID=America/New_York:20250602T080000
DTEND;TZID=America/New_York:20250602T160000
LOCATION:53 Schoolhouse Road\, Oak Ridge\, NJ 07438 US
SUMMARY:Golf Classic
END:VEVENT
END:VCALENDAR
