BEGIN:VCALENDAR
VERSION:2.0
PRODID:-//bgcnwnj.org//NONSGML kigkonsult.se iCalcreator 2.30.10//
CALSCALE:GREGORIAN
METHOD:PUBLISH
UID:fa4cc4f3-efd8-4e68-b86d-8c5bac70ecba
X-WR-CALDESC:Join us for a night of cocktails\, fine dining\, dancing and g
 iving in support of the 6\,000 youth we serve\, especially those who need 
 us most. Enjoy an evening of giving with friends and colleagues as we hono
 r Maureen Schneider and Chilton Medical Center.\n\nEMCEE\, Justin Shackil\
 , NY Yankees. Dance the night away with the Party Force Band! \nSponsorshi
 ps now available. Tickets available soon!
X-WR-RELCALID:a265acfd6f1202dd8fdb7ec71407752e
X-WR-TIMEZONE:America/New_York
BEGIN:VTIMEZONE
TZID:America/New_York
BEGIN:STANDARD
TZNAME:EST
DTSTART:20251102T020000
TZOFFSETFROM:-0400
TZOFFSETTO:-0500
RDATE:20261101T020000
END:STANDARD
BEGIN:DAYLIGHT
TZNAME:EDT
DTSTART:20250309T020000
TZOFFSETFROM:-0500
TZOFFSETTO:-0400
RDATE:20260308T020000
RDATE:20270314T020000
END:DAYLIGHT
END:VTIMEZONE
BEGIN:VEVENT
UID:a8b68c43-a684-47fe-a29f-2857e089700a
DTSTAMP:20260424T211322Z
DESCRIPTION:Join us for a night of cocktails\, fine dining\, dancing and gi
 ving in support of the 6\,000 youth we serve\, especially those who need u
 s most. Enjoy an evening of giving with friends and colleagues as we honor
  Maureen Schneider and Chilton Medical Center.\n\nEMCEE\, Justin Shackil\,
  NY Yankees. Dance the night away with the Party Force Band! \nSponsorship
 s now available. Tickets available soon!
DTSTART;TZID=America/New_York:20251114T183000
DTEND;TZID=America/New_York:20251114T233000
LOCATION:728 Rifle Camp Rd\, Woodland Park\, NJ 07470 US
SUMMARY:Annual Gala
END:VEVENT
END:VCALENDAR
