BEGIN:VCALENDAR
VERSION:2.0
PRODID:-//bgcnwnj.org//NONSGML kigkonsult.se iCalcreator 2.30.10//
CALSCALE:GREGORIAN
METHOD:PUBLISH
UID:93f224d5-edaf-4f3d-b6d8-1afa70f26326
X-WR-CALDESC:
X-WR-RELCALID:3aa1a25002e502190c977e383abcc8b6
X-WR-TIMEZONE:America/New_York
BEGIN:VTIMEZONE
TZID:America/New_York
BEGIN:STANDARD
TZNAME:EST
DTSTART:20251102T020000
TZOFFSETFROM:-0400
TZOFFSETTO:-0500
RDATE:20261101T020000
END:STANDARD
BEGIN:DAYLIGHT
TZNAME:EDT
DTSTART:20250309T020000
TZOFFSETFROM:-0500
TZOFFSETTO:-0400
RDATE:20260308T020000
RDATE:20270314T020000
END:DAYLIGHT
END:VTIMEZONE
BEGIN:VEVENT
UID:ff8f8666-c0a3-4e20-baac-4a201c1b78e1
DTSTAMP:20260424T194624Z
DESCRIPTION:
DTSTART;TZID=America/New_York:20251213T083000
DTEND;TZID=America/New_York:20251213T110000
LOCATION:153 Garside Avenue\, Wayne\, NJ 07470 US
SUMMARY:Breakfast with Santa
END:VEVENT
END:VCALENDAR
