BEGIN:VCALENDAR
VERSION:2.0
PRODID:-//bgcnwnj.org//NONSGML kigkonsult.se iCalcreator 2.30.10//
CALSCALE:GREGORIAN
METHOD:PUBLISH
UID:3a51953b-1df5-4d78-9d28-eded7823e5ea
X-WR-CALDESC:
X-WR-RELCALID:41dfadcd1bc993ee3a8f6854fb4017b5
X-WR-TIMEZONE:America/New_York
BEGIN:VTIMEZONE
TZID:America/New_York
BEGIN:STANDARD
TZNAME:EST
DTSTART:20251102T020000
TZOFFSETFROM:-0400
TZOFFSETTO:-0500
RDATE:20261101T020000
END:STANDARD
BEGIN:DAYLIGHT
TZNAME:EDT
DTSTART:20250309T020000
TZOFFSETFROM:-0500
TZOFFSETTO:-0400
RDATE:20260308T020000
RDATE:20270314T020000
END:DAYLIGHT
END:VTIMEZONE
BEGIN:VEVENT
UID:d084dfd3-91aa-4348-b4bf-c0a9d89918df
DTSTAMP:20260424T182940Z
DESCRIPTION:
DTSTART;TZID=America/New_York:20260131T190000
DTEND;TZID=America/New_York:20260131T230000
LOCATION:153 Garside Avenue\, Wayne\, NJ 07470 US
SUMMARY:2026 Comedy Night
END:VEVENT
END:VCALENDAR
