BEGIN:VCALENDAR
VERSION:2.0
PRODID:-//bgcnwnj.org//NONSGML kigkonsult.se iCalcreator 2.30.10//
CALSCALE:GREGORIAN
METHOD:PUBLISH
UID:6fb972ea-77ee-42a9-8158-ef0f4f63c4b2
X-WR-CALDESC:
X-WR-RELCALID:56c2359c8c6187ecb499911d0bda9a8b
X-WR-TIMEZONE:America/New_York
BEGIN:VTIMEZONE
TZID:America/New_York
BEGIN:STANDARD
TZNAME:EST
DTSTART:20261101T020000
TZOFFSETFROM:-0400
TZOFFSETTO:-0500
RDATE:20271107T020000
END:STANDARD
BEGIN:DAYLIGHT
TZNAME:EDT
DTSTART:20260308T020000
TZOFFSETFROM:-0500
TZOFFSETTO:-0400
RDATE:20270314T020000
RDATE:20280312T020000
END:DAYLIGHT
END:VTIMEZONE
BEGIN:VEVENT
UID:f1f9b3f1-9438-47f6-8522-0701ea02ef94
DTSTAMP:20260424T234429Z
DESCRIPTION:
DTSTART;TZID=America/New_York:20261120T180000
DTEND;TZID=America/New_York:20261120T233000
LOCATION:Westmount Country Club\, 728 Rifle Camp Road\, Woodland Park\, NJ 
 07866 US
SUMMARY:Annual Gala
END:VEVENT
END:VCALENDAR
